BEGIN:VCALENDAR
VERSION:2.0
PRODID:-//https://gcmsares.org///NONSGML kigkonsult.se iCalcreator 2.10.15//
METHOD:PUBLISH
BEGIN:VEVENT
UID:20260422T115000UTC-0012PztRt5@https://gcmsares.org/
DTSTAMP:20260422T115000Z
DESCRIPTION:Christmas Party https://gcmsares.org/calendar/event/312-christm
 as-party
DTSTART:20251213T150000Z
DTEND:20251213T170000Z
LOCATION:Old American Legion  (130 Beaver Dam Rd\, Lucedale\, Mississippi\,
  39452)
SUMMARY:Christmas Party
URL:https://gcmsares.org/calendar/event/312-christmas-party
END:VEVENT
END:VCALENDAR
